BEGIN:VCALENDAR
VERSION:2.0
PRODID:-//Northwest Arkansas Regional Planning Commission - ECPv6.15.20//NONSGML v1.0//EN
CALSCALE:GREGORIAN
METHOD:PUBLISH
X-WR-CALNAME:Northwest Arkansas Regional Planning Commission
X-ORIGINAL-URL:https://www.nwarpc.org
X-WR-CALDESC:Events for Northwest Arkansas Regional Planning Commission
REFRESH-INTERVAL;VALUE=DURATION:PT1H
X-Robots-Tag:noindex
X-PUBLISHED-TTL:PT1H
BEGIN:VTIMEZONE
TZID:America/Chicago
BEGIN:DAYLIGHT
TZOFFSETFROM:-0600
TZOFFSETTO:-0500
TZNAME:CDT
DTSTART:20250309T080000
END:DAYLIGHT
BEGIN:STANDARD
TZOFFSETFROM:-0500
TZOFFSETTO:-0600
TZNAME:CST
DTSTART:20251102T070000
END:STANDARD
BEGIN:DAYLIGHT
TZOFFSETFROM:-0600
TZOFFSETTO:-0500
TZNAME:CDT
DTSTART:20260308T080000
END:DAYLIGHT
BEGIN:STANDARD
TZOFFSETFROM:-0500
TZOFFSETTO:-0600
TZNAME:CST
DTSTART:20261101T070000
END:STANDARD
BEGIN:DAYLIGHT
TZOFFSETFROM:-0600
TZOFFSETTO:-0500
TZNAME:CDT
DTSTART:20270314T080000
END:DAYLIGHT
BEGIN:STANDARD
TZOFFSETFROM:-0500
TZOFFSETTO:-0600
TZNAME:CST
DTSTART:20271107T070000
END:STANDARD
END:VTIMEZONE
BEGIN:VEVENT
DTSTART;TZID=America/Chicago:20260422T133000
DTEND;TZID=America/Chicago:20260422T143000
DTSTAMP:20260424T054124
CREATED:20260105T144620Z
LAST-MODIFIED:20260407T163111Z
UID:7915-1776864600-1776868200@www.nwarpc.org
SUMMARY:RPC Policy Committee Meeting [LOCATION CHANGE]
DESCRIPTION:The RPC/Policy Committee meetings are open to the public and held in-person and virtually.\nNote: The RPC/Policy Committee meetings are typically held at the NWARPC offices; however\, this meeting will be held at a different location. \nThe RPC/Policy Committee will meet on Wednesday\, April 22\, 2026 at 1:30 pm.\nIN-PERSON [NEW LOCATION]: Springdale City Council Chambers\, 201 Spring Street\, Springdale\, Arkansas 72764 (2nd Floor)\nVIRTUAL: email ngibbs@www.nwarpc.org to receive a meeting link and register to join virtually. \nMeeting documents and information: \nForthcoming \nPUBLIC COMMENT:  NWARPC remains committed to providing opportunities for public comment on agenda items. Members of the public are encouraged to join the meetings. Please submit comments in advance\, no later than 4:00 pm the day before the meeting\, to comments@nwarpc.org. Comments will be provided to the Committee prior to or during the meeting.
URL:https://www.nwarpc.org/event/rpc-policy-committee-meeting-39/
END:VEVENT
BEGIN:VEVENT
DTSTART;TZID=America/Chicago:20260422T143000
DTEND;TZID=America/Chicago:20260422T153000
DTSTAMP:20260424T054124
CREATED:20260407T163351Z
LAST-MODIFIED:20260414T212649Z
UID:8362-1776868200-1776871800@www.nwarpc.org
SUMMARY:NWA Regional Mobility Authority (RMA) Meeting [LOCATION CHANGE]
DESCRIPTION:The NWA Regional Mobility Authority (RMA) meetings are open to the public and held in-person and virtually. \nPlease Note: The NWA RMA meetings are typically held at the NWARPC offices; however\, this meeting will be held at a different location\, noted below. \nThe NWA Regional Mobility Authority (RMA) Board of Directors will meet on April 22\, 2026 at 2:30 pm\, immediately following the RPC/Policy Committee meeting\nIN-PERSON [NEW LOCATION]: Springdale City Council Chambers\, 201 Spring Street\, Springdale\, Arkansas 72764 (2nd Floor)\nVIRTUAL: email ngibbs@nwarpc.org to receive a meeting link and register to join virtually. \nMeeting documents and information: \nMeeting Announcement \nPUBLIC COMMENT:  NWARPC and NWA RMA remains committed to providing opportunities for public comment on agenda items. Members of the public are encouraged to join the meetings. Please submit comments in advance\, no later than 4:00 pm the day before the meeting\, to comments@nwarpc.org. Comments will be provided to the Committee prior to or during the meeting.
URL:https://www.nwarpc.org/event/nwa-regional-mobility-authority-rma-meeting-location-change/
END:VEVENT
END:VCALENDAR